BEGIN:VCALENDAR
VERSION:2.0
PRODID:-//Djarindjin Aboriginal Corporation - ECPv5.3.0//NONSGML v1.0//EN
CALSCALE:GREGORIAN
METHOD:PUBLISH
X-WR-CALNAME:Djarindjin Aboriginal Corporation
X-ORIGINAL-URL:https://djarindjin.org.au
X-WR-CALDESC:Events for Djarindjin Aboriginal Corporation
BEGIN:VTIMEZONE
TZID:Asia/Shanghai
BEGIN:STANDARD
TZOFFSETFROM:+0800
TZOFFSETTO:+0800
TZNAME:CST
DTSTART:20190101T000000
END:STANDARD
END:VTIMEZONE
BEGIN:VEVENT
DTSTART;TZID=Asia/Shanghai:20191105T160000
DTEND;TZID=Asia/Shanghai:20211202T010000
DTSTAMP:20210228T092521
CREATED:20191104T203537Z
LAST-MODIFIED:20200129T035032Z
UID:357-1572969600-1638406800@djarindjin.org.au
SUMMARY:DAC Board Meetings
DESCRIPTION:
URL:https://djarindjin.org.au/event/sample-event-1/
LOCATION:Venue 1\, 22 Bass St\, Port Hacking\, Sydney\, 2229\, Australia
ATTACH;FMTTYPE=image/jpeg:https://djarindjin.org.au/wp-content/uploads/2019/11/DAC3-scaled.jpg
END:VEVENT
BEGIN:VEVENT
DTSTART;VALUE=DATE:20201209
DTEND;VALUE=DATE:20201210
DTSTAMP:20210228T092521
CREATED:20200907T031024Z
LAST-MODIFIED:20200907T031024Z
UID:1392-1607472000-1607558399@djarindjin.org.au
SUMMARY:Christ The King and Djarindjin Community Christmas Concert Dec 9th
DESCRIPTION:Christ The King and Djarindjin Community Christmas Concert Dec 9th
URL:https://djarindjin.org.au/event/christ-the-king-and-djarindjin-community-christmas-concert-dec-9th/
LOCATION:DAC Corporatiion\, Lot 26\, Djarindjin\, WA\, 6725\, Australia
ATTACH;FMTTYPE=image/jpeg:https://djarindjin.org.au/wp-content/uploads/2020/09/christmas-angel-1775334_640.jpg
ORGANIZER;CN="Sommer%20Meadows":MAILTO:hr@djarindjin.org.au
END:VEVENT
END:VCALENDAR