BEGIN:VCALENDAR
VERSION:2.0
PRODID:-//Djarindjin Aboriginal Corporation - ECPv5.3.0//NONSGML v1.0//EN
CALSCALE:GREGORIAN
METHOD:PUBLISH
X-WR-CALNAME:Djarindjin Aboriginal Corporation
X-ORIGINAL-URL:https://djarindjin.org.au
X-WR-CALDESC:Events for Djarindjin Aboriginal Corporation
BEGIN:VTIMEZONE
TZID:Asia/Shanghai
BEGIN:STANDARD
TZOFFSETFROM:+0800
TZOFFSETTO:+0800
TZNAME:CST
DTSTART:20200101T000000
END:STANDARD
END:VTIMEZONE
BEGIN:VEVENT
DTSTART;VALUE=DATE:20201102
DTEND;VALUE=DATE:20201109
DTSTAMP:20210228T092120
CREATED:20200907T021132Z
LAST-MODIFIED:20200907T021251Z
UID:1366-1604275200-1604879999@djarindjin.org.au
SUMMARY:NAIDOC WEEK Nov 2nd – Nov 8th
DESCRIPTION:NAIDOC WEEK Nov 2nd – Nov 8th
URL:https://djarindjin.org.au/event/naidoc-week-nov-2nd-nov-8th/
LOCATION:DAC Corporatiion\, Lot 26\, Djarindjin\, WA\, 6725\, Australia
ATTACH;FMTTYPE=image/png:https://djarindjin.org.au/wp-content/uploads/2020/09/naidoc-logo-300.png
ORGANIZER;CN="Sommer%20Meadows":MAILTO:hr@djarindjin.org.au
END:VEVENT
END:VCALENDAR