BEGIN:VCALENDAR
VERSION:2.0
PRODID:-//Djarindjin Aboriginal Corporation - ECPv5.3.0//NONSGML v1.0//EN
CALSCALE:GREGORIAN
METHOD:PUBLISH
X-WR-CALNAME:Djarindjin Aboriginal Corporation
X-ORIGINAL-URL:https://djarindjin.org.au
X-WR-CALDESC:Events for Djarindjin Aboriginal Corporation
BEGIN:VTIMEZONE
TZID:Asia/Shanghai
BEGIN:STANDARD
TZOFFSETFROM:+0800
TZOFFSETTO:+0800
TZNAME:CST
DTSTART:20200101T000000
END:STANDARD
END:VTIMEZONE
BEGIN:VEVENT
DTSTART;VALUE=DATE:20201106
DTEND;VALUE=DATE:20201109
DTSTAMP:20210228T092126
CREATED:20200907T022009Z
LAST-MODIFIED:20200907T022009Z
UID:1371-1604620800-1604879999@djarindjin.org.au
SUMMARY:Djarindjin Community Fishing Competition Nov. 6-8th
DESCRIPTION:Djarindjin Community Fishing Competition Nov. 6-8th
URL:https://djarindjin.org.au/event/djarindjin-community-fishing-competition-nov-6-8th/
ATTACH;FMTTYPE=image/jpeg:https://djarindjin.org.au/wp-content/uploads/2020/09/fisherman-1149682_640.jpg
ORGANIZER;CN="Sommer%20Meadows":MAILTO:hr@djarindjin.org.au
END:VEVENT
END:VCALENDAR