BEGIN:VCALENDAR
VERSION:2.0
PRODID:-//Djarindjin Aboriginal Corporation - ECPv5.3.0//NONSGML v1.0//EN
CALSCALE:GREGORIAN
METHOD:PUBLISH
X-WR-CALNAME:Djarindjin Aboriginal Corporation
X-ORIGINAL-URL:https://djarindjin.org.au
X-WR-CALDESC:Events for Djarindjin Aboriginal Corporation
BEGIN:VTIMEZONE
TZID:Asia/Shanghai
BEGIN:STANDARD
TZOFFSETFROM:+0800
TZOFFSETTO:+0800
TZNAME:CST
DTSTART:20200101T000000
END:STANDARD
END:VTIMEZONE
BEGIN:VEVENT
DTSTART;VALUE=DATE:20201121
DTEND;VALUE=DATE:20201122
DTSTAMP:20210228T092141
CREATED:20200907T025757Z
LAST-MODIFIED:20200907T025823Z
UID:1384-1605916800-1606003199@djarindjin.org.au
SUMMARY:Christ The King Market Night Nov 21
DESCRIPTION:Christ The King Market Night Nov 21
URL:https://djarindjin.org.au/event/christ-the-king-market-night-nov-21/
LOCATION:DAC Corporatiion\, Lot 26\, Djarindjin\, WA\, 6725\, Australia
ATTACH;FMTTYPE=image/jpeg:https://djarindjin.org.au/wp-content/uploads/2020/09/christmas-market-232203_640.jpg
ORGANIZER;CN="Sommer%20Meadows":MAILTO:hr@djarindjin.org.au
END:VEVENT
END:VCALENDAR